BEGIN:VCALENDAR
VERSION:2.0
PRODID:-//Windfall Equestrian Center - Stillwater, Minnesota - ECPv6.15.20//NONSGML v1.0//EN
CALSCALE:GREGORIAN
METHOD:PUBLISH
X-WR-CALNAME:Windfall Equestrian Center - Stillwater, Minnesota
X-ORIGINAL-URL:https://www.windfallequestriancenter.com
X-WR-CALDESC:Events for Windfall Equestrian Center - Stillwater, Minnesota
REFRESH-INTERVAL;VALUE=DURATION:PT1H
X-Robots-Tag:noindex
X-PUBLISHED-TTL:PT1H
BEGIN:VTIMEZONE
TZID:UTC
BEGIN:STANDARD
TZOFFSETFROM:+0000
TZOFFSETTO:+0000
TZNAME:UTC
DTSTART:20170101T000000
END:STANDARD
END:VTIMEZONE
BEGIN:VEVENT
DTSTART;VALUE=DATE:20240426
DTEND;VALUE=DATE:20240429
DTSTAMP:20260423T215527
CREATED:20240203T061856Z
LAST-MODIFIED:20240203T061856Z
UID:5031-1714089600-1714348799@www.windfallequestriancenter.com
SUMMARY:Minnesota Horse Expo and Tack Swap
DESCRIPTION:https://www.mnhorseexpo.org/
URL:https://www.windfallequestriancenter.com/wfecevents/minnesota-horse-expo-and-tack-swap/
LOCATION:Minnesota State Fairgrounds\, St. Paul\, MN
CATEGORIES:Expos and Fairs,Tack Swaps
END:VEVENT
BEGIN:VEVENT
DTSTART;VALUE=DATE:20220415
DTEND;VALUE=DATE:20220418
DTSTAMP:20260423T215527
CREATED:20220131T210326Z
LAST-MODIFIED:20220131T210326Z
UID:4589-1649980800-1650239999@www.windfallequestriancenter.com
SUMMARY:Minnesota Horse Expo
DESCRIPTION:
URL:https://www.windfallequestriancenter.com/wfecevents/minnesota-horse-expo-3/
LOCATION:Minnesota State Fairgrounds\, St. Paul\, MN
CATEGORIES:Expos and Fairs
END:VEVENT
BEGIN:VEVENT
DTSTART;VALUE=DATE:20190510
DTEND;VALUE=DATE:20190513
DTSTAMP:20260423T215527
CREATED:20190210T170850Z
LAST-MODIFIED:20190210T170850Z
UID:4078-1557446400-1557705599@www.windfallequestriancenter.com
SUMMARY:SANA West Rare Breeds Show
DESCRIPTION:rare_breeds_show_2019_flyer_with_class_numbers
URL:https://www.windfallequestriancenter.com/wfecevents/sana-west-rare-breeds-show/
LOCATION:Murieta Equestrian Center\, Sacramento\, CA
CATEGORIES:Breed Shows,Expos and Fairs
END:VEVENT
BEGIN:VEVENT
DTSTART;VALUE=DATE:20190426
DTEND;VALUE=DATE:20190429
DTSTAMP:20260423T215527
CREATED:20190211T044229Z
LAST-MODIFIED:20190211T044229Z
UID:4138-1556236800-1556495999@www.windfallequestriancenter.com
SUMMARY:Minnesota Horse Expo
DESCRIPTION:
URL:https://www.windfallequestriancenter.com/wfecevents/minnesota-horse-expo-2/
LOCATION:Minnesota State Fairgrounds\, St. Paul\, MN
CATEGORIES:Expos and Fairs
END:VEVENT
BEGIN:VEVENT
DTSTART;VALUE=DATE:20180427
DTEND;VALUE=DATE:20180430
DTSTAMP:20260423T215527
CREATED:20180428T182249Z
LAST-MODIFIED:20180428T182249Z
UID:3766-1524787200-1525046399@www.windfallequestriancenter.com
SUMMARY:Minnesota Horse Expo
DESCRIPTION:
URL:https://www.windfallequestriancenter.com/wfecevents/minnesota-horse-expo/
LOCATION:minnesota state fairgrounds\, St Paul\, MN
CATEGORIES:Expos and Fairs
END:VEVENT
END:VCALENDAR