BEGIN:VCALENDAR
VERSION:2.0
PRODID:-//Windfall Equestrian Center - Stillwater, Minnesota - ECPv6.15.20//NONSGML v1.0//EN
CALSCALE:GREGORIAN
METHOD:PUBLISH
X-WR-CALNAME:Windfall Equestrian Center - Stillwater, Minnesota
X-ORIGINAL-URL:https://www.windfallequestriancenter.com
X-WR-CALDESC:Events for Windfall Equestrian Center - Stillwater, Minnesota
REFRESH-INTERVAL;VALUE=DURATION:PT1H
X-Robots-Tag:noindex
X-PUBLISHED-TTL:PT1H
BEGIN:VTIMEZONE
TZID:UTC
BEGIN:STANDARD
TZOFFSETFROM:+0000
TZOFFSETTO:+0000
TZNAME:UTC
DTSTART:20180101T000000
END:STANDARD
END:VTIMEZONE
BEGIN:VEVENT
DTSTART;VALUE=DATE:20241001
DTEND;VALUE=DATE:20241007
DTSTAMP:20260423T195713
CREATED:20240203T071921Z
LAST-MODIFIED:20240203T072004Z
UID:5095-1727740800-1728259199@www.windfallequestriancenter.com
SUMMARY:Minnesota Harvest Horse Show
DESCRIPTION:https://minnesotaharvesthorseshow.com/
URL:https://www.windfallequestriancenter.com/wfecevents/minnesota-harvest-horse-show-2/
LOCATION:Minnesota State Fairgrounds\, St. Paul\, MN
CATEGORIES:USEF/USHJA Recognized Hunter/Jumper Shows
END:VEVENT
BEGIN:VEVENT
DTSTART;VALUE=DATE:20240911
DTEND;VALUE=DATE:20240916
DTSTAMP:20260423T195713
CREATED:20240203T071338Z
LAST-MODIFIED:20240203T071338Z
UID:5087-1726012800-1726444799@www.windfallequestriancenter.com
SUMMARY:Midstates Fall Horse Show
DESCRIPTION:http://midstateshorseshows.com/
URL:https://www.windfallequestriancenter.com/wfecevents/midstates-fall-horse-show/
LOCATION:North Iowa Events Center\, Mason City\, IA
CATEGORIES:USEF/USHJA Recognized Hunter/Jumper Shows
END:VEVENT
BEGIN:VEVENT
DTSTART;VALUE=DATE:20240905
DTEND;VALUE=DATE:20240909
DTSTAMP:20260423T195713
CREATED:20240203T071057Z
LAST-MODIFIED:20240203T071057Z
UID:5083-1725494400-1725839999@www.windfallequestriancenter.com
SUMMARY:UEE End Of Summer Horse Show
DESCRIPTION:Home
URL:https://www.windfallequestriancenter.com/wfecevents/uee-end-of-summer-horse-show/
LOCATION:Maffit Lake Equestrian Center\, Cumming\, IA
CATEGORIES:USEF/USHJA Recognized Hunter/Jumper Shows
END:VEVENT
BEGIN:VEVENT
DTSTART;VALUE=DATE:20240816
DTEND;VALUE=DATE:20240819
DTSTAMP:20260423T195713
CREATED:20240203T070733Z
LAST-MODIFIED:20240203T070733Z
UID:5079-1723766400-1724025599@www.windfallequestriancenter.com
SUMMARY:Minnesota State Fair Horse Show
DESCRIPTION:
URL:https://www.windfallequestriancenter.com/wfecevents/minnesota-state-fair-horse-show/
LOCATION:Minnesota State Fairgrounds\, St. Paul\, MN
CATEGORIES:USEF/USHJA Recognized Hunter/Jumper Shows
END:VEVENT
BEGIN:VEVENT
DTSTART;VALUE=DATE:20240731
DTEND;VALUE=DATE:20240805
DTSTAMP:20260423T195713
CREATED:20240203T070018Z
LAST-MODIFIED:20240203T070018Z
UID:5070-1722384000-1722815999@www.windfallequestriancenter.com
SUMMARY:Two Rivers Summer Festival
DESCRIPTION:Home
URL:https://www.windfallequestriancenter.com/wfecevents/two-rivers-summer-festival/
LOCATION:Maffit Lake Equestrian Center\, Cumming\, IA
CATEGORIES:USEF/USHJA Recognized Hunter/Jumper Shows
END:VEVENT
BEGIN:VEVENT
DTSTART;VALUE=DATE:20240711
DTEND;VALUE=DATE:20240715
DTSTAMP:20260423T195713
CREATED:20240203T065209Z
LAST-MODIFIED:20240203T065209Z
UID:5062-1720656000-1721001599@www.windfallequestriancenter.com
SUMMARY:Stonegate Summer I and II
DESCRIPTION:https://stonegatefarm.net/
URL:https://www.windfallequestriancenter.com/wfecevents/stonegate-summer-i-and-ii/
LOCATION:Stonegate Farm\, Stillwater\, MN
CATEGORIES:USEF/USHJA Recognized Hunter/Jumper Shows
END:VEVENT
BEGIN:VEVENT
DTSTART;VALUE=DATE:20240707
DTEND;VALUE=DATE:20240712
DTSTAMP:20260423T195713
CREATED:20240203T070353Z
LAST-MODIFIED:20240203T070353Z
UID:5077-1720310400-1720742399@www.windfallequestriancenter.com
SUMMARY:Two Rivers Summer Festival
DESCRIPTION:Home
URL:https://www.windfallequestriancenter.com/wfecevents/two-rivers-summer-festival-2/
LOCATION:Maffit Lake Equestrian Center\, Cumming\, IA
CATEGORIES:USEF/USHJA Recognized Hunter/Jumper Shows
END:VEVENT
BEGIN:VEVENT
DTSTART;VALUE=DATE:20240612
DTEND;VALUE=DATE:20240617
DTSTAMP:20260423T195713
CREATED:20240203T064426Z
LAST-MODIFIED:20240203T064426Z
UID:5052-1718150400-1718582399@www.windfallequestriancenter.com
SUMMARY:Midstates Summer
DESCRIPTION:http://midstateshorseshows.com/
URL:https://www.windfallequestriancenter.com/wfecevents/midstates-summer/
LOCATION:North Iowa Events Center\, Mason City\, IA
CATEGORIES:USEF/USHJA Recognized Hunter/Jumper Shows
END:VEVENT
BEGIN:VEVENT
DTSTART;VALUE=DATE:20240605
DTEND;VALUE=DATE:20240610
DTSTAMP:20260423T195713
CREATED:20240203T063643Z
LAST-MODIFIED:20240203T063643Z
UID:5044-1717545600-1717977599@www.windfallequestriancenter.com
SUMMARY:Midstates Summerfest
DESCRIPTION:http://midstateshorseshows.com/
URL:https://www.windfallequestriancenter.com/wfecevents/midstates-summerfest/
LOCATION:North Iowa Events Center\, Mason City\, IA
CATEGORIES:USEF/USHJA Recognized Hunter/Jumper Shows
END:VEVENT
BEGIN:VEVENT
DTSTART;VALUE=DATE:20240403
DTEND;VALUE=DATE:20240408
DTSTAMP:20260423T195713
CREATED:20240129T171637Z
LAST-MODIFIED:20240129T171637Z
UID:5016-1712102400-1712534399@www.windfallequestriancenter.com
SUMMARY:WEC Ohio Winter in the Midwest Series #17
DESCRIPTION:Additional Info \nPrize List \nStalls
URL:https://www.windfallequestriancenter.com/wfecevents/wec-ohio-winter-in-the-midwest-series-17/
LOCATION:World Equestrian Center\, Wilmington\, OH\, United States
CATEGORIES:USEF/USHJA Recognized Hunter/Jumper Shows
END:VEVENT
BEGIN:VEVENT
DTSTART;VALUE=DATE:20240223
DTEND;VALUE=DATE:20240226
DTSTAMP:20260423T195713
CREATED:20240129T165916Z
LAST-MODIFIED:20240129T170107Z
UID:5009-1708646400-1708905599@www.windfallequestriancenter.com
SUMMARY:Ledges Showplace Winter Series Hunter/Jumper "B" Rated
DESCRIPTION:Prize List \nSchedule and Entry
URL:https://www.windfallequestriancenter.com/wfecevents/ledges-showplace-winter-series-hunter-jumper-b-rated/
LOCATION:Ledges Sport Horses\, 12250 Love Rd\, Roscoe\, IL\, 61073\, United States
CATEGORIES:USEF/USHJA Recognized Hunter/Jumper Shows
END:VEVENT
BEGIN:VEVENT
DTSTART;VALUE=DATE:20221004
DTEND;VALUE=DATE:20221010
DTSTAMP:20260423T195713
CREATED:20220201T022346Z
LAST-MODIFIED:20220201T022346Z
UID:4694-1664841600-1665359999@www.windfallequestriancenter.com
SUMMARY:Minnesota Harvest Hunter/Jumper Horse Show (USEF/USHJA)
DESCRIPTION:https://showplaceproductions.com/prize-lists
URL:https://www.windfallequestriancenter.com/wfecevents/minnesota-harvest-hunter-jumper-horse-show-usef-ushja/
LOCATION:Minnesota State Fairgrounds\, St. Paul\, MN
CATEGORIES:USEF/USHJA Recognized Hunter/Jumper Shows
END:VEVENT
BEGIN:VEVENT
DTSTART;VALUE=DATE:20220708
DTEND;VALUE=DATE:20220711
DTSTAMP:20260423T195713
CREATED:20220201T021637Z
LAST-MODIFIED:20220201T021637Z
UID:4692-1657238400-1657497599@www.windfallequestriancenter.com
SUMMARY:Stonegate Summer I Jumper Show (USEF/USHJA)
DESCRIPTION:STONEGATE SUMMER I\nComp ID: 339671\nSTILLWATER\, MN (Zone : 6)\nComp Phone: (651) 260-6773\nLicensee: GRANDSTRAND\, TRACY (185079)\nWebsite: http://STONE-GATEFARM.COM\nTRACY GRANDSTRAND\n(651) 260-6773\nSTONEGATE@USFAMILY.NET\nSecretary: HUMPHRIES\, PATRICIA\nManager: GRANDSTRAND\, TRACY
URL:https://www.windfallequestriancenter.com/wfecevents/stonegate-summer-i-jumper-show-usef-ushja/
LOCATION:Stonegate Farm\, Stillwater\, MN
CATEGORIES:USEF/USHJA Recognized Hunter/Jumper Shows
END:VEVENT
BEGIN:VEVENT
DTSTART;VALUE=DATE:20191001
DTEND;VALUE=DATE:20191007
DTSTAMP:20260423T195713
CREATED:20190211T045417Z
LAST-MODIFIED:20190211T045417Z
UID:4150-1569888000-1570406399@www.windfallequestriancenter.com
SUMMARY:Minnesota Harvest Horse Show
DESCRIPTION:Prize list not yet available
URL:https://www.windfallequestriancenter.com/wfecevents/minnesota-harvest-horse-show/
LOCATION:Minnesota State Fairgrounds\, St. Paul\, MN
CATEGORIES:USEF/USHJA Recognized Hunter/Jumper Shows
END:VEVENT
BEGIN:VEVENT
DTSTART;VALUE=DATE:20190911
DTEND;VALUE=DATE:20190917
DTSTAMP:20260423T195713
CREATED:20190211T043508Z
LAST-MODIFIED:20190211T043508Z
UID:4127-1568160000-1568678399@www.windfallequestriancenter.com
SUMMARY:Mid States Fall
DESCRIPTION:Prize list not yet available
URL:https://www.windfallequestriancenter.com/wfecevents/mid-states-fall/
LOCATION:North Iowa Events Center\, Mason City\, IA
CATEGORIES:USEF/USHJA Recognized Hunter/Jumper Shows
END:VEVENT
BEGIN:VEVENT
DTSTART;VALUE=DATE:20190730
DTEND;VALUE=DATE:20190805
DTSTAMP:20260423T195713
CREATED:20190211T042742Z
LAST-MODIFIED:20190211T042742Z
UID:4117-1564444800-1564963199@www.windfallequestriancenter.com
SUMMARY:Equifest II
DESCRIPTION:AA Rated \nPrize List not yet available
URL:https://www.windfallequestriancenter.com/wfecevents/equifest-ii/
LOCATION:Lamplight Equestrian Center\, Wayne\, IL
CATEGORIES:USEF/USHJA Recognized Hunter/Jumper Shows
END:VEVENT
BEGIN:VEVENT
DTSTART;VALUE=DATE:20190605
DTEND;VALUE=DATE:20190610
DTSTAMP:20260423T195713
CREATED:20190211T003148Z
LAST-MODIFIED:20190211T003148Z
UID:4090-1559692800-1560124799@www.windfallequestriancenter.com
SUMMARY:Mid States Horse Show
DESCRIPTION:
URL:https://www.windfallequestriancenter.com/wfecevents/mid-states-horse-show/
LOCATION:North Iowa Events Center\, Mason City\, IA
CATEGORIES:USEF/USHJA Recognized Hunter/Jumper Shows
END:VEVENT
BEGIN:VEVENT
DTSTART;VALUE=DATE:20190516
DTEND;VALUE=DATE:20190520
DTSTAMP:20260423T195713
CREATED:20190211T002401Z
LAST-MODIFIED:20190211T002401Z
UID:4082-1557964800-1558310399@www.windfallequestriancenter.com
SUMMARY:MHJA Spring Horse Show "B"
DESCRIPTION:MHJA Spring Horse Show “B” Rated\nThu\, May 16 – Sun\, May 19\, 2019\nAll day\n17727 Henna Ave N\, Hugo\, MN 55038\nCarriage House\nContact:\nPatty Humphries\n952-442-5321\nADD TO CALENDAR
URL:https://www.windfallequestriancenter.com/wfecevents/mhja-spring-horse-show-b/
LOCATION:Carriage House Farm\, Hugo\, MN
CATEGORIES:USEF/USHJA Recognized Hunter/Jumper Shows
END:VEVENT
BEGIN:VEVENT
DTSTART;VALUE=DATE:20190508
DTEND;VALUE=DATE:20190513
DTSTAMP:20260423T195713
CREATED:20190210T170240Z
LAST-MODIFIED:20190212T015333Z
UID:4076-1557273600-1557705599@www.windfallequestriancenter.com
SUMMARY:Maffit Lake Spring Gathering I "National"
DESCRIPTION:USEF/USHJA  \nPrize List not yet available
URL:https://www.windfallequestriancenter.com/wfecevents/maffit-lake-spring-gathering-i-national/
LOCATION:Maffit Lake Equestrian Center\, Cumming\, IA
CATEGORIES:USEF/USHJA Recognized Hunter/Jumper Shows
END:VEVENT
BEGIN:VEVENT
DTSTART;VALUE=DATE:20190403
DTEND;VALUE=DATE:20190408
DTSTAMP:20260423T195713
CREATED:20190210T165718Z
LAST-MODIFIED:20190212T015212Z
UID:4072-1554249600-1554681599@www.windfallequestriancenter.com
SUMMARY:Burlington Capital International Omaha
DESCRIPTION:The Burlington Capital International Omaha is not your ordinary horse show. It’s where friends gather to socialize\, shop\, dine\, party\, and watch some of the best horses and riders in the Midwest compete for top prizes. Everything is under one roof – stabling\, warm-up\, competition arena\, educational and exhibit area\, demonstrations\, dining venues\, and did we mention shopping! It’s where the American tailgate experience meets European sophistication\, and a chance to see and meet some of the finest equestrians and horses in the world.  \ninternational omaha
URL:https://www.windfallequestriancenter.com/wfecevents/burlington-capital-international-omaha/
LOCATION:CHI Health Center\, Omaha\, NE
CATEGORIES:USEF/USDF Recognized Dressage Shows,USEF/USHJA Recognized Hunter/Jumper Shows
END:VEVENT
BEGIN:VEVENT
DTSTART;VALUE=DATE:20190227
DTEND;VALUE=DATE:20190304
DTSTAMP:20260423T195713
CREATED:20190210T165227Z
LAST-MODIFIED:20190210T170355Z
UID:4069-1551225600-1551657599@www.windfallequestriancenter.com
SUMMARY:World Equestrian Center Winter Classic #10
DESCRIPTION:USHJA/USEF “AA” Rated Jumper Level 4 \n205
URL:https://www.windfallequestriancenter.com/wfecevents/world-equestrian-center-winter-classic-9/
LOCATION:World Equestrian Center\, Wilmington\, OH\, United States
CATEGORIES:USEF/USHJA Recognized Hunter/Jumper Shows
END:VEVENT
BEGIN:VEVENT
DTSTART;VALUE=DATE:20190213
DTEND;VALUE=DATE:20190218
DTSTAMP:20260423T195713
CREATED:20190210T163614Z
LAST-MODIFIED:20190210T164803Z
UID:4062-1550016000-1550447999@www.windfallequestriancenter.com
SUMMARY:World Equestrian Center Winter Classic #8
DESCRIPTION:USHJA/USEF AA Rated Jumper Level 4 \n205
URL:https://www.windfallequestriancenter.com/wfecevents/world-equestrian-center-winter-classic-8/
LOCATION:World Equestrian Center\, Wilmington\, OH\, United States
CATEGORIES:USEF/USHJA Recognized Hunter/Jumper Shows
END:VEVENT
END:VCALENDAR