BEGIN:VCALENDAR
VERSION:2.0
PRODID:-//Windfall Equestrian Center - Stillwater, Minnesota - ECPv6.15.20//NONSGML v1.0//EN
CALSCALE:GREGORIAN
METHOD:PUBLISH
X-WR-CALNAME:Windfall Equestrian Center - Stillwater, Minnesota
X-ORIGINAL-URL:https://www.windfallequestriancenter.com
X-WR-CALDESC:Events for Windfall Equestrian Center - Stillwater, Minnesota
REFRESH-INTERVAL;VALUE=DURATION:PT1H
X-Robots-Tag:noindex
X-PUBLISHED-TTL:PT1H
BEGIN:VTIMEZONE
TZID:UTC
BEGIN:STANDARD
TZOFFSETFROM:+0000
TZOFFSETTO:+0000
TZNAME:UTC
DTSTART:20180101T000000
END:STANDARD
END:VTIMEZONE
BEGIN:VEVENT
DTSTART;VALUE=DATE:20190831
DTEND;VALUE=DATE:20190901
DTSTAMP:20260423T233514
CREATED:20190211T043245Z
LAST-MODIFIED:20190211T043245Z
UID:4125-1567209600-1567295999@www.windfallequestriancenter.com
SUMMARY:Dog Days Dressage Show
DESCRIPTION:Prize list not yet available
URL:https://www.windfallequestriancenter.com/wfecevents/dog-days-dressage-show/
LOCATION:Washington County Fairgrounds\, Lake Elmo\, MN
CATEGORIES:Dressage Schooling Shows,Western Dressage Schooling Shows
END:VEVENT
END:VCALENDAR