BEGIN:VCALENDAR
VERSION:2.0
PRODID:-//Windfall Equestrian Center - Stillwater, Minnesota - ECPv6.15.20//NONSGML v1.0//EN
CALSCALE:GREGORIAN
METHOD:PUBLISH
X-WR-CALNAME:Windfall Equestrian Center - Stillwater, Minnesota
X-ORIGINAL-URL:https://www.windfallequestriancenter.com
X-WR-CALDESC:Events for Windfall Equestrian Center - Stillwater, Minnesota
REFRESH-INTERVAL;VALUE=DURATION:PT1H
X-Robots-Tag:noindex
X-PUBLISHED-TTL:PT1H
BEGIN:VTIMEZONE
TZID:UTC
BEGIN:STANDARD
TZOFFSETFROM:+0000
TZOFFSETTO:+0000
TZNAME:UTC
DTSTART:20230101T000000
END:STANDARD
END:VTIMEZONE
BEGIN:VEVENT
DTSTART;VALUE=DATE:20240518
DTEND;VALUE=DATE:20240521
DTSTAMP:20260423T215740
CREATED:20240203T062318Z
LAST-MODIFIED:20240203T091357Z
UID:5035-1715990400-1716249599@www.windfallequestriancenter.com
SUMMARY:Windfall Equestrian Center Kids' Camp
DESCRIPTION:Click on the link below for schedule and to register! \nWindfall Equestrian Center Kids’ Camp II
URL:https://www.windfallequestriancenter.com/wfecevents/windfall-equestrian-center-kids-camp-2/
LOCATION:Windfall Equestrian Center\, 3843 Oakgreen Ave N\, Stillwater\, MN\, 55082\, United States
CATEGORIES:Windfall Equestrian Center Education Camps
END:VEVENT
BEGIN:VEVENT
DTSTART;VALUE=DATE:20240419
DTEND;VALUE=DATE:20240422
DTSTAMP:20260423T215740
CREATED:20240129T172217Z
LAST-MODIFIED:20240203T093258Z
UID:5022-1713484800-1713743999@www.windfallequestriancenter.com
SUMMARY:Windfall Equestrian Center Dressage Camp
DESCRIPTION:Click the link below for schedule and to register! \nWindfall Equestrian Center 2024 Dressage Camp
URL:https://www.windfallequestriancenter.com/wfecevents/windfall-equestrian-center-dressage-camp/
LOCATION:Windfall Equestrian Center\, 3843 Oakgreen Ave N\, Stillwater\, MN\, 55082\, United States
CATEGORIES:Windfall Equestrian Center Education Camps
END:VEVENT
BEGIN:VEVENT
DTSTART;VALUE=DATE:20240322
DTEND;VALUE=DATE:20240325
DTSTAMP:20260423T215740
CREATED:20240129T170915Z
LAST-MODIFIED:20240203T090307Z
UID:5014-1711065600-1711324799@www.windfallequestriancenter.com
SUMMARY:Windfall Equestrian Center Kids Camp
DESCRIPTION:Click on the link below to learn more and to register! \nWindfall Equestrian Center Kids’ Camp I
URL:https://www.windfallequestriancenter.com/wfecevents/windfall-equestrian-center-kids-camp/
LOCATION:Windfall Equestrian Center\, 3843 Oakgreen Ave N\, Stillwater\, MN\, 55082\, United States
CATEGORIES:Windfall Equestrian Center Education Camps
END:VEVENT
BEGIN:VEVENT
DTSTART;VALUE=DATE:20240315
DTEND;VALUE=DATE:20240318
DTSTAMP:20260423T215740
CREATED:20240129T170706Z
LAST-MODIFIED:20240203T094030Z
UID:5012-1710460800-1710719999@www.windfallequestriancenter.com
SUMMARY:Windfall Equestrian Center Jump Camp
DESCRIPTION:Click on the link below for the schedule and to register! \nWindfall Equestrian Center 2024 Jump Camp
URL:https://www.windfallequestriancenter.com/wfecevents/windfall-equestrian-center-jump-camp/
LOCATION:Windfall Equestrian Center\, 3843 Oakgreen Ave N\, Stillwater\, MN\, 55082\, United States
CATEGORIES:Windfall Equestrian Center Education Camps
END:VEVENT
END:VCALENDAR